BEGIN:VCALENDAR
VERSION:2.0
CALSCALE:GREGORIAN
PRODID:adamgibbons/ics
METHOD:PUBLISH
X-PUBLISHED-TTL:PT1H
BEGIN:VEVENT
UID:603@puppycalendar.eu
SUMMARY:meet&bark
DTSTAMP:20260425T141136Z
DTSTART:20260425T150000Z
DTEND:20260425T180000Z
URL:https://puppycalendar.eu/event/meetandbark
GEO:56.1572;10.2126
LOCATION:LGBT+hus Aarhus - Skolebakken 5\, 8000 Aarhus\, Denmark
STATUS:CONFIRMED
CATEGORIES:Denmark,Puppy,social
END:VEVENT
BEGIN:VEVENT
UID:680@puppycalendar.eu
SUMMARY:SIXPACK - International Pride Festival
DTSTAMP:20260425T141136Z
DTSTART:20260501T180000Z
DTEND:20260510T000000Z
URL:https://puppycalendar.eu/event/sixpack-international-pride-festival
GEO:27.7584;-15.5772
LOCATION:Yumbocenter - Sixpack Zone - A
STATUS:CONFIRMED
CATEGORIES:dance,Fetish,fun,gay,gran canaria,Maspalomas,Maspalomas Pride,Me
	etup,party,Pride,Pup,Puppies,Puppy,Puppy Gran Canaria,Puppy Social,Puppypl
	ay,social,Yumbo Center
END:VEVENT
BEGIN:VEVENT
UID:665@puppycalendar.eu
SUMMARY:Kennel Klub
DTSTAMP:20260425T141136Z
DTSTART:20260502T110000Z
DTEND:20260502T150000Z
URL:https://puppycalendar.eu/event/kennel-klub-24
GEO:53.4773;-2.23651
LOCATION:Bar Pop Manchester - 10 Canal St\, Manchester\, M1 3EZ\, UK
STATUS:CONFIRMED
CATEGORIES:Kink,Pup,Puppy,UK
END:VEVENT
BEGIN:VEVENT
UID:668@puppycalendar.eu
SUMMARY:PUPPY SOCIAL AT NOXON BY MASPUP
DTSTAMP:20260425T141136Z
DTSTART:20260502T190000Z
DTEND:20260503T010000Z
URL:https://puppycalendar.eu/event/puppy-social-at-noxon-by-maspup-6
GEO:27.7577;-15.5774
LOCATION:Noxon\, C.C. Yumbo Center\, Maspalomas\, Gran Canaria - Playa del 
	Inglés - Yumbo Center\, Avenida Estados Unidos\, Playa del Inglés\, San Ba
	rtolomé de Tirajana\, Las Palmas\, Canarias\, 35290\, España
STATUS:CONFIRMED
CATEGORIES:Fetish,Kink,Maspalomas,maspalomas fetish pride,Meetup,noxon,Pup,
	Puppies,Puppy,Puppy Social,Puppyplay,social,Spain
END:VEVENT
BEGIN:VEVENT
UID:673@puppycalendar.eu
SUMMARY:Pre Pride Puppy Meeting
DTSTAMP:20260425T141136Z
DTSTART:20260502T190000Z
DTEND:20260503T020000Z
URL:https://puppycalendar.eu/event/pre-pride-puppy-meeting-1
LOCATION:Popstar Boudoir - Yumbo Center
STATUS:CONFIRMED
CATEGORIES:Maspalomas,Meetup,party,Pride,Pup,Puppies,Puppy,Puppy Gran Canar
	ia,PuppyDance,puppyfetish,Puppygrancanaria,Puppyplay,social,Yumbocenter
END:VEVENT
BEGIN:VEVENT
UID:545@puppycalendar.eu
SUMMARY:Maspalomas Pride by Freedom
DTSTAMP:20260425T141136Z
DTSTART:20260503T220000Z
DTEND:20260509T220000Z
URL:https://puppycalendar.eu/event/maspalomas-pride-by-freedom
LOCATION:Yumbocenter - Av. Estados Unidos\, 54\, 35100 Maspalomas\, Las Pal
	mas
STATUS:CONFIRMED
CATEGORIES:Fetish,gran canaria,Kink,LGBTQ*,Maspalomas,Pride,Pup,Puppy,Puppy
	 Gran Canaria,Puppyplay,social
END:VEVENT
BEGIN:VEVENT
UID:672@puppycalendar.eu
SUMMARY:Puppies NordWest - Stammtisch Oldenburg
DTSTAMP:20260425T141136Z
DTSTART:20260509T163000Z
DTEND:20260509T200000Z
URL:https://puppycalendar.eu/event/puppies-nordwest-stammtisch-oldenburg-18
LOCATION:Hempels - Queeres Zentrum Oldenburg - Ziegelhofstr 83 - 26121 Olde
	nburg
STATUS:CONFIRMED
CATEGORIES:Meetup,Puppy,Puppyplay
END:VEVENT
BEGIN:VEVENT
UID:584@puppycalendar.eu
SUMMARY:Eurovision Pride Maspalomas
DTSTAMP:20260425T141136Z
DTSTART:20260514T170000Z
DTEND:20260516T220000Z
URL:https://puppycalendar.eu/event/eurovision-pride-maspalomas
LOCATION:Yumbocenter - Av. Estados Unidos\, 54\, 35100 Maspalomas\, Las Pal
	mas
STATUS:CONFIRMED
CATEGORIES:EurovisionPride,gay,gran canaria,LGBTQ*,Maspalomas,Meetup,Pride,
	Puppy,Puppy Gran Canaria,Puppy Social,social
END:VEVENT
BEGIN:VEVENT
UID:625@puppycalendar.eu
SUMMARY:Frankenpuppys Tanz in den Mai Edition
DTSTAMP:20260425T141136Z
DTSTART:20260515T160000Z
DTEND:20260517T010000Z
URL:https://puppycalendar.eu/event/frankenpuppys-tanz-in-den-mai-edition
LOCATION:Musik Kneipe Industriestraße 1D 97483 Eltmann - https://maps.app.g
	oo.gl/LQ4nwaUPUWqBfjQm9?g_st=com.google.maps.preview.copy
STATUS:CONFIRMED
CATEGORIES:Fetish,Germany,Meetup,Pup,Puppies,Puppy,Puppyplay,PuppyWeekend,s
	ocial
END:VEVENT
BEGIN:VEVENT
UID:677@puppycalendar.eu
SUMMARY:Pups In Heat
DTSTAMP:20260425T141136Z
DTSTART:20260515T190000Z
DTEND:20260516T010000Z
URL:https://puppycalendar.eu/event/pups-in-heat-19
LOCATION:Heat Sauna - 48a Churchgate\, Stockport. SK1 1YG
STATUS:CONFIRMED
CATEGORIES:Fetish,gay,gayfetish,Kink,Kink Fetish Leather Rubber Pup Genderi
	nclusive,kinkpositive,kinky,LGBTQ,LGBTQ*,Meetup,Pet Play,petplay,Pup,Puppi
	es,Puppy,Puppy Social,puppyfetish,Puppyplay,sexpositive,social
END:VEVENT
BEGIN:VEVENT
UID:683@puppycalendar.eu
SUMMARY:SUN Construction - Grand Opening
DTSTAMP:20260425T141136Z
DTSTART:20260515T200000Z
DTEND:20260516T020000Z
URL:https://puppycalendar.eu/event/sun-construction-grand-opening
LOCATION:SUN CONSTRUCTION - C. Alcalde Marcial Franco\, 3\, 35100 Maspaloma
	s
STATUS:CONFIRMED
CATEGORIES:dance,DarkRoom,Fetish,Free,Free Entry,gayfetish,gearhead,gran ca
	naria,Kink,Maspalomas,maspalomas fetish pride,Maspalomas Pride,Opening,par
	ty,Puppies,Puppy,Puppy Cran Canaria,PuppyDance,Puppygrancanaria,puppyHolid
	ay,Puppyplay,social,Spain,Sun Construction
END:VEVENT
BEGIN:VEVENT
UID:674@puppycalendar.eu
SUMMARY:Puppy Laser game Brno
DTSTAMP:20260425T141136Z
DTSTART:20260516T111000Z
DTEND:20260516T133000Z
URL:https://puppycalendar.eu/event/puppy-laser-game-brno-6
LOCATION:Tron Laser Aréna\, Brno - Jugoslávská 713/5\, 613 00 Brno-sever
STATUS:CONFIRMED
CATEGORIES:Czechia,Puppy
END:VEVENT
BEGIN:VEVENT
UID:681@puppycalendar.eu
SUMMARY:Club Locked
DTSTAMP:20260425T141136Z
DTSTART:20260516T160000Z
DTEND:20260516T220000Z
URL:https://puppycalendar.eu/event/club-locked-25
GEO:53.4777;-2.2369
LOCATION:The Eagle Manchester - 15 Bloom Street\, Manchester\, M1 3HZ\, UK
STATUS:CONFIRMED
CATEGORIES:Kink,Pup,Puppy,UK
END:VEVENT
BEGIN:VEVENT
UID:608@puppycalendar.eu
SUMMARY:DoggyWeekend 2026
DTSTAMP:20260425T141136Z
DTSTART:20260522T190000Z
DTEND:20260525T120000Z
URL:https://puppycalendar.eu/event/doggyweekend-2026
GEO:50.9876;11.0277
LOCATION:OX'S Keller - 6\, Magdeburger Allee\, Andreasvorstadt\, Erfurt\, T
	hüringen\, 99086\, Deutschland
STATUS:CONFIRMED
CATEGORIES:Fetish,Germany,Kink,Pup,Puppies,Puppy,Puppyplay
END:VEVENT
BEGIN:VEVENT
UID:653@puppycalendar.eu
SUMMARY:Puppylicious
DTSTAMP:20260425T141136Z
DTSTART:20260523T200000Z
DTEND:20260524T030000Z
URL:https://puppycalendar.eu/event/puppylicious-3
LOCATION:The Cage Cologne - Rathenauplatz 6\, 50674 Köln
STATUS:CONFIRMED
CATEGORIES:Germany,Kink,party,Puppies,Puppy,Puppyplay
END:VEVENT
BEGIN:VEVENT
UID:675@puppycalendar.eu
SUMMARY:Looking for Mr. Puppy Boots 2026
DTSTAMP:20260425T141136Z
DTSTART:20260530T180000Z
DTEND:20260531T020000Z
URL:https://puppycalendar.eu/event/looking-for-mr-puppy-boots-2026
LOCATION:The Boots - Van Aerdstraat 22 Antwerpen Belgie
STATUS:CONFIRMED
CATEGORIES:Election,Puppy,puppy election,Puppyplay
END:VEVENT
BEGIN:VEVENT
UID:664@puppycalendar.eu
SUMMARY:BASQUE PUPPY FIESTA 5-7TH JUNE
DTSTAMP:20260425T141136Z
DTSTART:20260604T220500Z
DTEND:20260607T210000Z
URL:https://puppycalendar.eu/event/basque-puppy-fiesta-5-7th-june
LOCATION:BILBAO - BILBAO\, BASQUE COUNTRY\, SPAIN
STATUS:CONFIRMED
CATEGORIES:Fetish,Pup,Puppy,Puppyplay,social
END:VEVENT
BEGIN:VEVENT
UID:604@puppycalendar.eu
SUMMARY:meet&bark
DTSTAMP:20260425T141136Z
DTSTART:20260704T150000Z
DTEND:20260704T180000Z
URL:https://puppycalendar.eu/event/meetandbark-1
GEO:56.1572;10.2126
LOCATION:LGBT+hus Aarhus - Skolebakken 5\, 8000 Aarhus\, Denmark
STATUS:CONFIRMED
CATEGORIES:Denmark,Puppy,social
END:VEVENT
BEGIN:VEVENT
UID:670@puppycalendar.eu
SUMMARY:Puppies @ CSD Berlin Pride 2026
DTSTAMP:20260425T141136Z
DTSTART:20260725T090000Z
URL:https://puppycalendar.eu/event/puppies-csd-berlin-pride-2026
GEO:52.5105;13.3918
LOCATION:Berlin\, Mitte\, Leipziger Straße - Leipziger Straße\, Mitte\, Ber
	lin\, 10117\, Deutschland
STATUS:CONFIRMED
CATEGORIES:Berlin,CSD,csd Berlin,Germany,Pride,Puppies,PupPlay Berlin,Puppy
	,Puppyplay,social
END:VEVENT
BEGIN:VEVENT
UID:626@puppycalendar.eu
SUMMARY:Frankenpuppys Summer Special Edition
DTSTAMP:20260425T141136Z
DTSTART:20260731T160000Z
DTEND:20260802T010000Z
URL:https://puppycalendar.eu/event/frankenpuppys-summer-special-edition
LOCATION:Musik Kneipe Industriestraße 1D 97483 Eltmann - https://maps.app.g
	oo.gl/LQ4nwaUPUWqBfjQm9?g_st=com.google.maps.preview.copy
STATUS:CONFIRMED
CATEGORIES:Fetish,Germany,Kink,Pup,Puppies,Puppy,Puppyplay,social
END:VEVENT
BEGIN:VEVENT
UID:577@puppycalendar.eu
SUMMARY:Maspalomas Fetish Pride
DTSTAMP:20260425T141136Z
DTSTART:20261001T100000Z
DTEND:20261012T220000Z
URL:https://puppycalendar.eu/event/maspalomas-fetish-pride-1
LOCATION:Yumbocenter - Av. Estados Unidos\, 54\, 35100 Maspalomas\, Las Pal
	mas
STATUS:CONFIRMED
CATEGORIES:Fetish,gran canaria,Kink,Maspalomas,maspalomas fetish pride,Meet
	up,Pup,Puppies,Puppy,Puppy Gran Canaria,Puppyplay,social
END:VEVENT
BEGIN:VEVENT
UID:605@puppycalendar.eu
SUMMARY:meet&bark
DTSTAMP:20260425T141136Z
DTSTART:20261017T150000Z
DTEND:20261017T180000Z
URL:https://puppycalendar.eu/event/meetandbark-2
GEO:56.1572;10.2126
LOCATION:LGBT+hus Aarhus - Skolebakken 5\, 8000 Aarhus\, Denmark
STATUS:CONFIRMED
CATEGORIES:Denmark,Puppy,social
END:VEVENT
BEGIN:VEVENT
UID:627@puppycalendar.eu
SUMMARY:Frankenpuppys Halloween Edition
DTSTAMP:20260425T141136Z
DTSTART:20261025T170000Z
DTEND:20261026T020000Z
URL:https://puppycalendar.eu/event/frankenpuppys-halloween-edition
LOCATION:Musik Kneipe Industriestraße 1D 97483 Eltmann - https://maps.app.g
	oo.gl/LQ4nwaUPUWqBfjQm9?g_st=com.google.maps.preview.copy
STATUS:CONFIRMED
CATEGORIES:Fetish,Germany,Kink,Meetup,Pup,Puppies,Puppy,Puppyplay,social,UK
END:VEVENT
BEGIN:VEVENT
UID:583@puppycalendar.eu
SUMMARY:Maspalomas Winter Pride
DTSTAMP:20260425T141136Z
DTSTART:20261101T230000Z
DTEND:20261107T230000Z
URL:https://puppycalendar.eu/event/maspalomas-winter-pride-1
LOCATION:Yumbocenter - Av. Estados Unidos\, 54\, 35100 Maspalomas\, Las Pal
	mas
STATUS:CONFIRMED
CATEGORIES:Canary Island,Fetish,gran canaria,Kink,Maspalomas,maspalomas Win
	terpride,Meetup,Playa del Ingles,Pubcrawl,Pup,Puppy,Puppyplay,social,Winte
	r Pride,Winterpride
END:VEVENT
BEGIN:VEVENT
UID:661@puppycalendar.eu
SUMMARY:Slovak Puppy 2027
DTSTAMP:20260425T141136Z
DTSTART:20261107T170000Z
DTEND:20261108T030000Z
URL:https://puppycalendar.eu/event/slovak-puppy-2027
GEO:48.1517;17.1093
LOCATION:Bratislava\, Slovakia - Bratislava\, Bratislavský kraj\, Slovensko
STATUS:CONFIRMED
CATEGORIES:contest,Pup,Puppies,Puppy,Puppyplay,social
END:VEVENT
BEGIN:VEVENT
UID:628@puppycalendar.eu
SUMMARY:Frankenpuppys X-Mas Edition
DTSTAMP:20260425T141136Z
DTSTART:20261204T170000Z
DTEND:20261206T020000Z
URL:https://puppycalendar.eu/event/frankenpuppys-x-mas-edition
LOCATION:Musik Kneipe Industriestraße 1D 97483 Eltmann - https://maps.app.g
	oo.gl/LQ4nwaUPUWqBfjQm9?g_st=com.google.maps.preview.copy
STATUS:CONFIRMED
CATEGORIES:Fetish,Germany,Kink,Meetup,Pup,Puppies,Puppy,Puppyplay,social
END:VEVENT
BEGIN:VEVENT
UID:660@puppycalendar.eu
SUMMARY:Kinky Storm #2
DTSTAMP:20260425T141136Z
DTSTART:20270409T160000Z
DTEND:20270411T100000Z
URL:https://puppycalendar.eu/event/kinky-storm-2
LOCATION:Nancy - Nancy
STATUS:CONFIRMED
CATEGORIES:All-Gender,Bondage,Fetish,France,gay,gayfetish,Gear,gearhead,Gea
	rheads,Kink,kinkpositive,kinky,Meetup,party,Pet Play,petplay,Pup,Puppies,P
	uppy,Puppy Social,puppyfetish,Puppyplay,Rubber,rubberfetish,sexpositive,so
	cial
END:VEVENT
BEGIN:VEVENT
UID:570@puppycalendar.eu
SUMMARY:Oslo Fetish Weekend
DTSTAMP:20260425T141136Z
DTSTART:20270813T160000Z
DTEND:20270816T150000Z
URL:https://puppycalendar.eu/event/oslo-fetish-weekend
LOCATION:Oslo - Several places in Oslo during the weekend
STATUS:CONFIRMED
CATEGORIES:everyone is welcome,feti,Kink,Kink Fetish Leather Rubber Pup Gen
	derinclusive,Norway,Oslo,oslofetishweekend,party,Puppy,Puppyplay,sightseei
	ng,social,weekend
END:VEVENT
END:VCALENDAR
