BEGIN:VCALENDAR
VERSION:2.0
CALSCALE:GREGORIAN
PRODID:adamgibbons/ics
METHOD:PUBLISH
X-PUBLISHED-TTL:PT1H
BEGIN:VEVENT
UID:682@puppycalendar.eu
SUMMARY:Walkies..pup play
DTSTAMP:20260425T150753Z
DTSTART:20260607T180000Z
DTEND:20260607T230000Z
URL:https://puppycalendar.eu/event/walkiespup-play
LOCATION:Kent uk - Northdown sittingbourne
STATUS:CONFIRMED
CATEGORIES:
END:VEVENT
END:VCALENDAR
