BEGIN:VCALENDAR
VERSION:2.0
CALSCALE:GREGORIAN
PRODID:adamgibbons/ics
METHOD:PUBLISH
X-PUBLISHED-TTL:PT1H
BEGIN:VEVENT
UID:684@puppycalendar.eu
SUMMARY:Puppies!
DTSTAMP:20260425T132259Z
DTSTART:20260522T221500Z
DTEND:20260523T150000Z
DESCRIPTION:Puppies! Is a brand-new pup play event taking place at the Duke
	 of Wellington\nbar in the iconic Soho region of London. We have two whole
	 floors where you can\nboot\, nozzle\, scratch\, and To your hearts conten
	t. Come for a roll around and\nbark in our puppy play space\, chill with a
	 drink\, nap and cuddle on a bed\, play\ngames\, win prizes\, have your ph
	oto taken\, come for a trip to the beautiful park\nat St Anne’s Church\, t
	ake advantage of our exclusive Puppies! Reward card\, and\nhave a roam aro
	und Soho.\n\nPuppies! Is free to attend\, we just ask you to book a ticket
	 on our Eventbrite\npage. You can also join our Telegram room to meet othe
	r pops and find out what\nwe’re up to\, as well as following us on our blu
	e sky and Instagram account\naccounts.\n\nthis is a strictly SFW event (an
	d we mean STRICTLY! You’re in SoHo so there are\nplenty of places to be na
	ughty outside (Club Collared is right after Puppies at\nthe Underground in
	 King’s Cross)\n\nSee you soon 🐶🫶\n\nEventbrite page:\nhttps://www.eventbr
	ite.co.uk/e/lpc-presents-puppies-tickets-1554599361539?aff=oddtdtcreator\n
	[https://www.eventbrite.co.uk/e/lpc-presents-puppies-tickets-1554599361539
	?aff=oddtdtcreator]
URL:https://puppycalendar.eu/event/puppies-9
LOCATION:The Duke of Wellington Bar - 77 Wardour Street\, Soho\, London\, G
	B W1D 6QA
STATUS:CONFIRMED
CATEGORIES:
X-ALT-DESC;FMTTYPE=text/html:<p>Puppies! Is a brand-new pup play event taki
	ng place at the Duke of Wellington bar in the iconic Soho region of London
	. We have two whole floors where you can boot, nozzle, scratch, and To you
	r hearts content. Come for a roll around and bark in our puppy play space,
	 chill with a drink, nap and cuddle on a bed, play games, win prizes, have
	 your photo taken, come for a trip to the beautiful park at St Anne’s Chur
	ch, take advantage of our exclusive Puppies! Reward card, and have a roam 
	around Soho. </p><p>Puppies! Is free to attend, we just ask you to book a 
	ticket on our Eventbrite page. You can also join our Telegram room to meet
	 other pops and find out what we’re up to, as well as following us on our 
	blue sky and Instagram account accounts. </p><p>this is a strictly SFW eve
	nt (and we mean STRICTLY! You’re in SoHo so there are plenty of places to 
	be naughty outside (Club Collared is right after Puppies at the Undergroun
	d in King’s Cross)</p><p>See you soon 🐶🫶</p><p>Eventbrite page: <a target=
	"_blank" href="https://www.eventbrite.co.uk/e/lpc-presents-puppies-tickets
	-1554599361539?aff=oddtdtcreator">https://www.eventbrite.co.uk/e/lpc-prese
	nts-puppies-tickets-1554599361539?aff=oddtdtcreator</a></p>
BEGIN:VALARM
ACTION:DISPLAY
DESCRIPTION:Puppies!
TRIGGER:-PT1H
END:VALARM
END:VEVENT
END:VCALENDAR
