BEGIN:VCALENDAR
VERSION:2.0
CALSCALE:GREGORIAN
PRODID:adamgibbons/ics
METHOD:PUBLISH
X-PUBLISHED-TTL:PT1H
BEGIN:VEVENT
UID:679@puppycalendar.eu
SUMMARY:Dog House
DTSTAMP:20260420T194540Z
DTSTART:20260516T110000Z
DTEND:20260516T160000Z
DESCRIPTION:Friendly and sociable pup event!\n\nBar and food available\, wi
	th outdoor area to run around in and matted indoor\nplay area with ball pi
	t!
URL:https://puppycalendar.eu/event/dog-house-26
LOCATION:Gossip Nightclub - 5 Hope Street\, Hanley\, ST1 5BT
STATUS:CONFIRMED
CATEGORIES:
X-ALT-DESC;FMTTYPE=text/html:<p>Friendly and sociable pup event! </p><p>Bar
	 and food available, with outdoor area to run around in and matted indoor 
	play area with ball pit!</p>
BEGIN:VALARM
ACTION:DISPLAY
DESCRIPTION:Dog House
TRIGGER:-PT1H
END:VALARM
END:VEVENT
END:VCALENDAR
